BEGIN:VCALENDAR
VERSION:2.0
PRODID:-//ChamberMaster//Event Calendar 2.0//EN
METHOD:PUBLISH
X-PUBLISHED-TTL:P3D
REFRESH-INTERVAL:P3D
CALSCALE:GREGORIAN
BEGIN:VEVENT
DTSTART;VALUE=DATE:20231115
DTEND;VALUE=DATE:20240120
TRANSP:TRANSPARENT
X-MICROSOFT-CDO-ALLDAYEVENT:TRUE
SUMMARY:2024 MBA City Banners
DESCRIPTION:The Marysville Business Association (MBA) is excited to partner with the City of Marysville and offer you as a Chamber Member\, the opportunity to participate in the 2024 Uptown Scholarship banner program. These colorful banners will provide an added element of pride for our Uptown and for the businesses in Marysville and Union County.\n\n\n\nWe are pleased to offer this program as a way to help fund the Chad Flowers Memorial Scholarship program. Chad Flowers\, City Planner for Marysville\, passed away unexpectedly on April 18\, 2019\, at the age of 40. Chad was passionate about his role in the community and was an active member of the Marysville Business Association. This scholarship\, designed to help  Marysville High School students move into a career in business\, is dedicated to Chad's memory and his contribution to the growth of business in the City of Marysville.
X-ALT-DESC;FMTTYPE=text/html:<span style="font-size:14px\;"><span style="font-family:arial\,sans-serif\;">The Marysville Business Association (MBA) is excited to partner with the City of Marysville and offer you as a Chamber Member\, the opportunity to participate in the 2024 Uptown Scholarship banner program. These colorful banners will provide an added element of pride for our Uptown and for the businesses in Marysville and Union County.</span><br />\n<br />\n<span style="font-family:arial\,sans-serif\;">We are pleased to offer this program as a way to help fund the Chad Flowers Memorial Scholarship program. Chad Flowers\, City Planner for Marysville\, passed away unexpectedly on April 18\, 2019\, at the age of 40. Chad was passionate about his role in the community and was an active member of the Marysville Business Association. This scholarship\, designed to help&nbsp\; Marysville High School students move into a career in business\, is dedicated to Chad&rsquo\;s memory and his contribution to the growth of business in the City of Marysville.</span></span>
LOCATION:
UID:e.1767.13577
SEQUENCE:3
DTSTAMP:20260420T231958Z
URL:https://unioncounty.smallnation.co/events/details/2024-mba-city-banners-13577
END:VEVENT

END:VCALENDAR
