BEGIN:VCALENDAR
VERSION:2.0
PRODID:-//ChamberMaster//Event Calendar 2.0//EN
METHOD:PUBLISH
X-PUBLISHED-TTL:P3D
REFRESH-INTERVAL:P3D
CALSCALE:GREGORIAN
BEGIN:VEVENT
DTSTART:20240626T203000Z
DTEND:20240626T223000Z
X-MICROSOFT-CDO-ALLDAYEVENT:FALSE
SUMMARY:2024 MBA Business After Hours
DESCRIPTION:Business After Hours\n\nDrinks and Food Provided
X-ALT-DESC;FMTTYPE=text/html:Business After Hours<br />\nDrinks and Food Provided
LOCATION:The Marysville Elks 125 East Fifth Street Marysville\, OH 43040
UID:e.1767.14420
SEQUENCE:3
DTSTAMP:20260420T082707Z
URL:https://unioncounty.smallnation.co/events/details/2024-mba-business-after-hours-14420
END:VEVENT

END:VCALENDAR
