BEGIN:VCALENDAR
VERSION:2.0
PRODID:-//ChamberMaster//Event Calendar 2.0//EN
METHOD:PUBLISH
X-PUBLISHED-TTL:P3D
REFRESH-INTERVAL:P3D
CALSCALE:GREGORIAN
BEGIN:VEVENT
DTSTART:20240425T203000Z
DTEND:20240426T000000Z
X-MICROSOFT-CDO-ALLDAYEVENT:FALSE
SUMMARY:2024 Annual Celebration - Union County: Where Community Shines Bright
DESCRIPTION:Union County Chamber of Commerce\n\nAnnual Celebration\n\nUnion County: Where Community Shines Bright\n\n\n\nSponsorship & Registration Brochure\n\nSilent Auction Donation Form
X-ALT-DESC;FMTTYPE=text/html:<strong><span style="font-size:18px\;">Union County Chamber of Commerce<br />\nAnnual Celebration</span><br />\n<em><span style="font-size:18px\;">Union County: Where Community Shines Bright</span><br />\n<br />\n<span style="font-size:16px\;"><u><a href="https://chambermaster.blob.core.windows.net/userfiles/UserFiles/chambers/1767/File/Annual2024Brochure.pdf">Sponsorship &amp\; Registration Brochure</a><br />\n<a href="https://chambermaster.blob.core.windows.net/userfiles/UserFiles/chambers/1767/File/2024AnnualSilentAuction.pdf">Silent Auction Donation Form</a></u></span></em></strong><br />\n<br />\n<br />\n&nbsp\;
LOCATION:The Grange Hall 31378 OH-37 Richwood\, OH 43344
UID:e.1767.13584
SEQUENCE:3
DTSTAMP:20260420T195829Z
URL:https://unioncounty.smallnation.co/events/details/2024-annual-celebration-union-county-where-community-shines-bright-13584
END:VEVENT

END:VCALENDAR
