BEGIN:VCALENDAR
VERSION:2.0
PRODID:-//ChamberMaster//Event Calendar 2.0//EN
METHOD:PUBLISH
X-PUBLISHED-TTL:P3D
REFRESH-INTERVAL:P3D
CALSCALE:GREGORIAN
BEGIN:VEVENT
DTSTART;VALUE=DATE:20230319
DTEND;VALUE=DATE:20230415
TRANSP:TRANSPARENT
X-MICROSOFT-CDO-ALLDAYEVENT:TRUE
SUMMARY:2023 MBA City Banners
DESCRIPTION:The Marysville Business Association (MBA) is excited to partner with the City of Marysville and offer you as a Chamber Member\, the opportunity to participate in the 2023 Uptown Scholarship banner program. These colorful banners will provide an added element of pride for our Uptown and for the businesses in Marysville and Union County.\n\n\n\nWe are pleased to offer this program as a way to help fund the Chad Flowers Memorial Scholarship program. Chad Flowers\, City Planner for Marysville\, passed away unexpectedly on April 18\, 2019\, at the age of 40. Chad was passionate about his role in the community and was an active member of the Marysville Business Association. This scholarship\, designed to help  Marysville High School students move into a career in business\, is dedicated to Chad's memory and his contribution to the growth of business in the City of Marysville.
X-ALT-DESC;FMTTYPE=text/html:<span style="font-size:14px\;"><span style="font-family:arial\,sans-serif\;">The Marysville Business Association (MBA) is excited to partner with the City of Marysville and offer you as a Chamber Member\, the opportunity to participate in the 2023 Uptown Scholarship banner program. These colorful banners will provide an added element of pride for our Uptown and for the businesses in Marysville and Union County.</span><br />\n<br />\n<span style="font-family:arial\,sans-serif\;">We are pleased to offer this program as a way to help fund the Chad Flowers Memorial Scholarship program. Chad Flowers\, City Planner for Marysville\, passed away unexpectedly on April 18\, 2019\, at the age of 40. Chad was passionate about his role in the community and was an active member of the Marysville Business Association. This scholarship\, designed to help&nbsp\; Marysville High School students move into a career in business\, is dedicated to Chad&rsquo\;s memory and his contribution to the growth of business in the City of Marysville.</span></span>
LOCATION:
UID:e.1767.13527
SEQUENCE:3
DTSTAMP:20260421T124453Z
URL:https://unioncounty.smallnation.co/events/details/2023-mba-city-banners-13527
END:VEVENT

END:VCALENDAR
