BEGIN:VCALENDAR
VERSION:2.0
PRODID:-//ChamberMaster//Event Calendar 2.0//EN
METHOD:PUBLISH
X-PUBLISHED-TTL:P3D
REFRESH-INTERVAL:P3D
CALSCALE:GREGORIAN
BEGIN:VEVENT
DTSTART:20231012T120000Z
DTEND:20231012T190000Z
X-MICROSOFT-CDO-ALLDAYEVENT:FALSE
SUMMARY:2023 IPA Golf Outing at Darby Creek
DESCRIPTION:IPA Annual Golf Outing\n\nThursday\, October 12\, 2023\n\n\n\nShotgun Start - 8:30 am
X-ALT-DESC;FMTTYPE=text/html:IPA Annual Golf Outing<br />\nThursday\, October 12\, 2023<br />\n<br />\nShotgun Start - 8:30 am
LOCATION:Darby Creek Golf Course 19300 Orchard Rd Marysville\, OH 43040
UID:e.1767.13557
SEQUENCE:3
DTSTAMP:20260421T042642Z
URL:https://unioncounty.smallnation.co/events/details/2023-ipa-golf-outing-at-darby-creek-13557
END:VEVENT

END:VCALENDAR
