BEGIN:VCALENDAR
VERSION:2.0
PRODID:-//ChamberMaster//Event Calendar 2.0//EN
METHOD:PUBLISH
X-PUBLISHED-TTL:P3D
REFRESH-INTERVAL:P3D
CALSCALE:GREGORIAN
BEGIN:VEVENT
DTSTART:20231018T213000Z
DTEND:20231018T223000Z
X-MICROSOFT-CDO-ALLDAYEVENT:FALSE
SUMMARY:2023 Economic Development & Prosperity Speaker Series
DESCRIPTION:Importance of Housing and Economic Development
X-ALT-DESC;FMTTYPE=text/html:<p class="font_8" style="background-image: initial\; background-position: initial\; background-size: initial\; background-repeat: initial\; background-attachment: initial\; background-origin: initial\; background-clip: initial\; border: 0px\; margin: 0px\; outline: 0px\; padding: 0px\; vertical-align: baseline\; pointer-events: auto\; font-size: 15px\; color: rgb(var(--color_15))\;"><span style="background-image: initial\; background-position: initial\; background-size: initial\; background-repeat: initial\; background-attachment: initial\; background-origin: initial\; background-clip: initial\; border: 0px\; margin: 0px\; outline: 0px\; padding: 0px\; vertical-align: baseline\; font-weight: bold\;">Importance of Housing and&nbsp\;</span><span style="font-weight: bold\; color: rgb(var(--color_15))\;">Economic Development</span></p>\n
LOCATION:The Avalon Theatre 121 South Main Street Marysville
UID:e.1767.13546
SEQUENCE:3
DTSTAMP:20260421T040929Z
URL:https://unioncounty.smallnation.co/events/details/2023-economic-development-prosperity-speaker-series-13546
END:VEVENT

END:VCALENDAR
