BEGIN:VCALENDAR
VERSION:2.0
PRODID:-//ChamberMaster//Event Calendar 2.0//EN
METHOD:PUBLISH
X-PUBLISHED-TTL:P3D
REFRESH-INTERVAL:P3D
CALSCALE:GREGORIAN
BEGIN:VEVENT
DTSTART:20230427T203000Z
DTEND:20230428T000000Z
X-MICROSOFT-CDO-ALLDAYEVENT:FALSE
SUMMARY:2023 Annual Celebration - Spotlighting Arts & Culture in Union County
DESCRIPTION:Union County Chamber of Commerce\n\nAnnual Celebration\n\nSpotlighting Arts & Culture in Union County\n\n\n\nSponsorship & Registration Brochure\n\nSilent Auction Donation Form\n\nTable Decorating Guidelines
X-ALT-DESC;FMTTYPE=text/html:<strong><span style="font-size:18px\;">Union County Chamber of Commerce<br />\nAnnual Celebration</span><br />\n<em><span style="font-size:18px\;">Spotlighting Arts &amp\; Culture in Union County</span><br />\n<br />\n<span style="font-size:16px\;"><u><a href="https://chambermaster.blob.core.windows.net/userfiles/UserFiles/chambers/1767/File/2023AnnualBrochure.pdf">Sponsorship &amp\; Registration Brochure</a><br />\n<a href="https://chambermaster.blob.core.windows.net/userfiles/UserFiles/chambers/1767/File/2023AnnualSilentAuctionForm.pdf">Silent Auction Donation Form</a><br />\n<a href="https://chambermaster.blob.core.windows.net/userfiles/UserFiles/chambers/1767/File/2023AnnualTableDecoratingForm.pdf">Table Decorating Guidelines</a></u></span></em></strong><br />\n<br />\n<br />\n&nbsp\;
LOCATION:The Grange Hall 31378 OH-37 Richwood\, OH 43344
UID:e.1767.13535
SEQUENCE:3
DTSTAMP:20260421T124915Z
URL:https://unioncounty.smallnation.co/events/details/2023-annual-celebration-spotlighting-arts-culture-in-union-county-13535
END:VEVENT

END:VCALENDAR
