BEGIN:VCALENDAR
VERSION:2.0
PRODID:-//ChamberMaster//Event Calendar 2.0//EN
METHOD:PUBLISH
X-PUBLISHED-TTL:P3D
REFRESH-INTERVAL:P3D
CALSCALE:GREGORIAN
BEGIN:VEVENT
DTSTART:20220911T180000Z
DTEND:20220911T230000Z
X-MICROSOFT-CDO-ALLDAYEVENT:FALSE
SUMMARY:2022 Chad Flowers Memorial Scholarship Golf Tournament MBA
DESCRIPTION:Chad Flowers\, City Planner for Marysville\, passed away unexpectedly on April 18\, 2019\, at the age of 40. He was passionate about his role and was an active member of the MBA. Chad was extremely instrumental in the development of many areas of the city including the city's comprehensive plan and uptown revitalization. Colleagues said that Chad was very well respected and that they "had never seen anyone accomplish the magnitude of projects\, the way Chad was able to accomplish in the short time he was with the City of Marysville." This scholarship\, designed to help a Marysville student move into a career in business\, is dedicated to Chad's memory and his contribution to the growth of business in the City of Marysville.
X-ALT-DESC;FMTTYPE=text/html:Chad Flowers\, City Planner for Marysville\, passed away unexpectedly on April 18\, 2019\, at the age of 40. He was passionate about his role and was an active member of the MBA. Chad was extremely instrumental in the development of many areas of the city including the city&rsquo\;s comprehensive plan and uptown revitalization. Colleagues said that Chad was very well respected and that they &ldquo\;had never seen anyone accomplish the magnitude of projects\, the way Chad was able to accomplish in the short time he was with the City of Marysville.&rdquo\; This scholarship\, designed to help a Marysville student move into a career in business\, is dedicated to Chad&rsquo\;s memory and his contribution to the growth of business in the City of Marysville.&nbsp\;
LOCATION:Marysville Golf Club 13683 State Route 38 Marysville\, Ohio 43040
UID:e.1767.13386
SEQUENCE:3
DTSTAMP:20260422T011752Z
URL:https://unioncounty.smallnation.co/events/details/2022-chad-flowers-memorial-scholarship-golf-tournament-mba-13386
END:VEVENT

END:VCALENDAR
