BEGIN:VCALENDAR
VERSION:2.0
PRODID:-//ChamberMaster//Event Calendar 2.0//EN
METHOD:PUBLISH
X-PUBLISHED-TTL:P3D
REFRESH-INTERVAL:P3D
CALSCALE:GREGORIAN
BEGIN:VEVENT
DTSTART;VALUE=DATE:20220805
DTEND;VALUE=DATE:20220806
TRANSP:TRANSPARENT
X-MICROSOFT-CDO-ALLDAYEVENT:TRUE
SUMMARY:2022 Annual Golf Tournament
DESCRIPTION:2022 Annual Chamber Golf Tournament\n\n\n\nThe Format is a Four Person Scramble \n\nSet Team Foursome - players will be assigned to the registered set team\n\nBlind Draw Foursome - players will be assigned to other teams in the Blind Draw format\n\n\n\nRegistration and Sponsorship Brochure
X-ALT-DESC;FMTTYPE=text/html:2022 Annual Chamber Golf Tournament<br />\n<br />\nThe Format is a Four Person Scramble&nbsp\;<br />\nSet Team Foursome - players will be assigned to the registered set team<br />\nBlind Draw Foursome - players will be assigned to other teams in the Blind Draw format<br />\n<br />\n<a href="https://chambermaster.blob.core.windows.net/userfiles/UserFiles/chambers/1767/File/Golf2022InviteBrochure.pdf">Registration and Sponsorship Brochure</a>
LOCATION:Marysville Golf Club 13683 SR 38 Marysville\, OH 43040
UID:e.1767.13378
SEQUENCE:3
DTSTAMP:20260422T011113Z
URL:https://unioncounty.smallnation.co/events/details/2022-annual-golf-tournament-13378
END:VEVENT

END:VCALENDAR
