BEGIN:VCALENDAR
VERSION:2.0
PRODID:-//ChamberMaster//Event Calendar 2.0//EN
METHOD:PUBLISH
X-PUBLISHED-TTL:P3D
REFRESH-INTERVAL:P3D
CALSCALE:GREGORIAN
BEGIN:VEVENT
DTSTART:20220428T210000Z
DTEND:20220429T000000Z
X-MICROSOFT-CDO-ALLDAYEVENT:FALSE
SUMMARY:2022 Annual Dinner - Celebrating 30 Years!
DESCRIPTION:Union County Chamber of Commerce\n\nAnnual Dinner\n\nCelebrating 30 Years!\n\n\n\nReception\n\nSilent Auction\n\nDinner\n\nProgram - Business Award Winners\n\n\n\nSponsorship Form\n\n\n\nSilent Auction Form\n\n\n\nTable Decorating Guidelines
X-ALT-DESC;FMTTYPE=text/html:<strong>Union County Chamber of Commerce<br />\nAnnual Dinner<br />\n<em>Celebrating 30 Years!</em></strong><br />\n<br />\nReception<br />\nSilent Auction<br />\nDinner<br />\nProgram - Business Award Winners<br />\n<br />\n<a href="https://chambermaster.blob.core.windows.net/userfiles/UserFiles/chambers/1767/File/AnnualDinner2022Brochure.pdf">Sponsorship Form</a><br />\n<br />\n<a href="https://chambermaster.blob.core.windows.net/userfiles/UserFiles/chambers/1767/File/AnnualDinner2022SilentAuction.pdf">Silent Auction Form</a><br />\n<br />\n<a href="https://chambermaster.blob.core.windows.net/userfiles/UserFiles/chambers/1767/File/TableDecorGuidelines.pdf">Table Decorating Guidelines</a>
LOCATION:Catholic Parish Life Center 1033 West Fifth St Marysville\, OH 43040
UID:e.1767.13375
SEQUENCE:3
DTSTAMP:20260422T073518Z
URL:https://unioncounty.smallnation.co/events/details/2022-annual-dinner-celebrating-30-years-13375
END:VEVENT

END:VCALENDAR
