BEGIN:VCALENDAR
VERSION:2.0
PRODID:-//ChamberMaster//Event Calendar 2.0//EN
METHOD:PUBLISH
X-PUBLISHED-TTL:P3D
REFRESH-INTERVAL:P3D
CALSCALE:GREGORIAN
BEGIN:VEVENT
DTSTART:20210929T220000Z
DTEND:20210930T000000Z
X-MICROSOFT-CDO-ALLDAYEVENT:FALSE
SUMMARY:2021 Meet the Candidates
DESCRIPTION:Election 2021 - Meet the Candidates Night
X-ALT-DESC;FMTTYPE=text/html:Election 2021 - Meet the Candidates Night<br />\n<br />\n&nbsp\;
LOCATION:Union Rural Electric Cooperative\, Inc. 15461 US Highway 36 Marysville\, OH 43040
UID:e.1767.13161
SEQUENCE:3
DTSTAMP:20260422T190451Z
URL:https://unioncounty.smallnation.co/events/details/2021-meet-the-candidates-13161
END:VEVENT

END:VCALENDAR
