BEGIN:VCALENDAR
VERSION:2.0
PRODID:-//ChamberMaster//Event Calendar 2.0//EN
METHOD:PUBLISH
X-PUBLISHED-TTL:P3D
REFRESH-INTERVAL:P3D
CALSCALE:GREGORIAN
BEGIN:VEVENT
DTSTART:20210909T210000Z
DTEND:20210909T233000Z
X-MICROSOFT-CDO-ALLDAYEVENT:FALSE
SUMMARY:2021 Annual Celebration - Tailgate & Member Blitz
DESCRIPTION:Union County Chamber of Commerce\n\nAnnual Celebration - Tailgate & Member Blitz\n\n\n\nRegistration & Sponsor Brochure\n\n\n\n\n\nBusiness Expo\, Networking\, SuperGames\, Food & Drink\n\nBusiness Award Program
X-ALT-DESC;FMTTYPE=text/html:<p><strong>Union County Chamber of Commerce<br />\nAnnual Celebration - Tailgate &amp\; Member Blitz</strong></p>\n\n<p><br />\n<strong><a href="https://chambermaster.blob.core.windows.net/userfiles/UserFiles/chambers/1767/File/AnnualExpoBrochure2021.pdf">Registration &amp\; Sponsor Brochure</a></strong><br />\n<br />\n<br />\nBusiness Expo\, Networking\, SuperGames\, Food &amp\; Drink<br />\nBusiness Award Program<br />\n<br />\n&nbsp\;</p>\n
LOCATION:Uptown Marysville
UID:e.1767.13092
SEQUENCE:3
DTSTAMP:20260422T190334Z
URL:https://unioncounty.smallnation.co/events/details/2021-annual-celebration-tailgate-member-blitz-13092
END:VEVENT

END:VCALENDAR
