BEGIN:VCALENDAR
VERSION:2.0
PRODID:-//ChamberMaster//Event Calendar 2.0//EN
METHOD:PUBLISH
X-PUBLISHED-TTL:P3D
REFRESH-INTERVAL:P3D
CALSCALE:GREGORIAN
BEGIN:VEVENT
DTSTART:20201213T003000Z
DTEND:20201214T020000Z
X-MICROSOFT-CDO-ALLDAYEVENT:FALSE
SUMMARY:2020 Union County Care Train Benefit Concert
DESCRIPTION:Care Train Benefit Concert
X-ALT-DESC;FMTTYPE=text/html:<font color="#000000" size="2">Care Train Benefit Concert</font>
LOCATION:Marysville High School 800 Amrine Mill Rd. Marysville\, OH
UID:e.1767.13089
SEQUENCE:3
DTSTAMP:20260423T055855Z
URL:https://unioncounty.smallnation.co/events/details/2020-union-county-care-train-benefit-concert-13089
END:VEVENT

END:VCALENDAR
