BEGIN:VCALENDAR
VERSION:2.0
PRODID:-//ChamberMaster//Event Calendar 2.0//EN
METHOD:PUBLISH
X-PUBLISHED-TTL:P3D
REFRESH-INTERVAL:P3D
CALSCALE:GREGORIAN
BEGIN:VEVENT
DTSTART:20201211T110000Z
DTEND:20201212T010000Z
X-MICROSOFT-CDO-ALLDAYEVENT:FALSE
SUMMARY:2020 Union County Care Train Auction
DESCRIPTION:Online and Live Stream
X-ALT-DESC;FMTTYPE=text/html:Online and Live Stream&nbsp\;
LOCATION:
UID:e.1767.13088
SEQUENCE:3
DTSTAMP:20260423T072245Z
URL:https://unioncounty.smallnation.co/events/details/2020-union-county-care-train-auction-13088
END:VEVENT

END:VCALENDAR
