BEGIN:VCALENDAR
VERSION:2.0
PRODID:-//ChamberMaster//Event Calendar 2.0//EN
METHOD:PUBLISH
X-PUBLISHED-TTL:P3D
REFRESH-INTERVAL:P3D
CALSCALE:GREGORIAN
BEGIN:VEVENT
DTSTART:20190928T140000Z
DTEND:20190928T160000Z
X-MICROSOFT-CDO-ALLDAYEVENT:FALSE
SUMMARY:2019 Covered Bridge Bus Tour 10:00 am
DESCRIPTION:Covered Bridge Tours \n\nOnly 24 seats per bus\n\nSee all seven bridges by hopping on a bus for a guided covered bridge tour and cruise along the Big Darby Plains Scenic Byway.
X-ALT-DESC;FMTTYPE=text/html:Covered Bridge Tours&nbsp\;<br />\n<strong>Only 24 seats per bus</strong><br />\nSee all seven bridges by hopping on a bus for a guided covered bridge tour and cruise along the Big Darby Plains Scenic Byway.
LOCATION:Buses will load at: Union Station 1820 109 E. Fifth St. Marysville\, Ohio
UID:e.1767.12797
SEQUENCE:3
DTSTAMP:20260426T030205Z
URL:https://unioncounty.smallnation.co/events/details/2019-covered-bridge-bus-tour-10-00-am-12797
END:VEVENT

END:VCALENDAR
